BEGIN:VCALENDAR
VERSION:2.0
PRODID:-//Middlesex County Volunteers Fifes &amp; Drums - ECPv6.15.20//NONSGML v1.0//EN
CALSCALE:GREGORIAN
METHOD:PUBLISH
X-WR-CALNAME:Middlesex County Volunteers Fifes &amp; Drums
X-ORIGINAL-URL:https://www.mcvfifesanddrums.org
X-WR-CALDESC:Events for Middlesex County Volunteers Fifes &amp; Drums
REFRESH-INTERVAL;VALUE=DURATION:PT1H
X-Robots-Tag:noindex
X-PUBLISHED-TTL:PT1H
BEGIN:VTIMEZONE
TZID:America/New_York
BEGIN:DAYLIGHT
TZOFFSETFROM:-0500
TZOFFSETTO:-0400
TZNAME:EDT
DTSTART:20240310T070000
END:DAYLIGHT
BEGIN:STANDARD
TZOFFSETFROM:-0400
TZOFFSETTO:-0500
TZNAME:EST
DTSTART:20241103T060000
END:STANDARD
BEGIN:DAYLIGHT
TZOFFSETFROM:-0500
TZOFFSETTO:-0400
TZNAME:EDT
DTSTART:20250309T070000
END:DAYLIGHT
BEGIN:STANDARD
TZOFFSETFROM:-0400
TZOFFSETTO:-0500
TZNAME:EST
DTSTART:20251102T060000
END:STANDARD
BEGIN:DAYLIGHT
TZOFFSETFROM:-0500
TZOFFSETTO:-0400
TZNAME:EDT
DTSTART:20260308T070000
END:DAYLIGHT
BEGIN:STANDARD
TZOFFSETFROM:-0400
TZOFFSETTO:-0500
TZNAME:EST
DTSTART:20261101T060000
END:STANDARD
END:VTIMEZONE
BEGIN:VEVENT
DTSTART;TZID=America/New_York:20250805T183000
DTEND;TZID=America/New_York:20250805T193000
DTSTAMP:20260421T061459
CREATED:20250328T154405Z
LAST-MODIFIED:20250328T154456Z
UID:10000337-1754418600-1754422200@www.mcvfifesanddrums.org
SUMMARY:National Conference of State Legislatures Convention
DESCRIPTION:MCV will be performing at an off-site event for the National Conference of State Legislatures on Tuesday\, August 5th in the Charlestown Navy Yard in Charlestown\, MA. \nThis is a private event (convention attendees only).
URL:https://www.mcvfifesanddrums.org/event/national-conference-of-state-legislatures-convention/
LOCATION:USS Constitution\, 93 Chelsea St\, Charlestown\, MA\, 02108\, United States
CATEGORIES:Conference,MCV Calendar,Private event
ATTACH;FMTTYPE=image/jpeg:https://www.mcvfifesanddrums.org/blog/wp-content/uploads/2025/03/NCSL-logo.jpg
END:VEVENT
END:VCALENDAR