BEGIN:VCALENDAR
VERSION:2.0
PRODID:-//Middlesex County Volunteers Fifes &amp; Drums - ECPv6.15.20//NONSGML v1.0//EN
CALSCALE:GREGORIAN
METHOD:PUBLISH
X-ORIGINAL-URL:https://www.mcvfifesanddrums.org
X-WR-CALDESC:Events for Middlesex County Volunteers Fifes &amp; Drums
REFRESH-INTERVAL;VALUE=DURATION:PT1H
X-Robots-Tag:noindex
X-PUBLISHED-TTL:PT1H
BEGIN:VTIMEZONE
TZID:America/New_York
BEGIN:DAYLIGHT
TZOFFSETFROM:-0500
TZOFFSETTO:-0400
TZNAME:EDT
DTSTART:20250309T070000
END:DAYLIGHT
BEGIN:STANDARD
TZOFFSETFROM:-0400
TZOFFSETTO:-0500
TZNAME:EST
DTSTART:20251102T060000
END:STANDARD
BEGIN:DAYLIGHT
TZOFFSETFROM:-0500
TZOFFSETTO:-0400
TZNAME:EDT
DTSTART:20260308T070000
END:DAYLIGHT
BEGIN:STANDARD
TZOFFSETFROM:-0400
TZOFFSETTO:-0500
TZNAME:EST
DTSTART:20261101T060000
END:STANDARD
BEGIN:DAYLIGHT
TZOFFSETFROM:-0500
TZOFFSETTO:-0400
TZNAME:EDT
DTSTART:20270314T070000
END:DAYLIGHT
BEGIN:STANDARD
TZOFFSETFROM:-0400
TZOFFSETTO:-0500
TZNAME:EST
DTSTART:20271107T060000
END:STANDARD
END:VTIMEZONE
BEGIN:VEVENT
DTSTART;TZID=America/New_York:20260512T160000
DTEND;TZID=America/New_York:20260512T180000
DTSTAMP:20260420T055205
CREATED:20260414T142309Z
LAST-MODIFIED:20260414T142309Z
UID:10000354-1778601600-1778608800@www.mcvfifesanddrums.org
SUMMARY:2026 Annual Meeting - Greater Boston Chamber of Commerce
DESCRIPTION:MCV will be greeting attendees to the 2026 Annual Meeting of the GreaterBoston Chamber of Commerce\, to be held at Thomas M. Menino Convention and Exhibition Center in Boston\, MA on Tuesday\, May 12th. \nThis is a ticketed event.
URL:https://www.mcvfifesanddrums.org/event/2026-annual-meeting-greater-boston-chamber-of-commerce/
LOCATION:Thomas M. Menino Convention and Exhibition Center\, 415 Summer St\, Boston\, 02210\, United States
CATEGORIES:Conference,MCV Calendar
ATTACH;FMTTYPE=image/webp:https://www.mcvfifesanddrums.org/blog/wp-content/uploads/2026/04/2026-Annual-Meeting-ALL-1920-x-1080-1-1.webp
END:VEVENT
END:VCALENDAR