BEGIN:VCALENDAR
VERSION:2.0
PRODID:-//Middlesex County Volunteers Fifes &amp; Drums - ECPv6.15.20//NONSGML v1.0//EN
CALSCALE:GREGORIAN
METHOD:PUBLISH
X-ORIGINAL-URL:https://www.mcvfifesanddrums.org
X-WR-CALDESC:Events for Middlesex County Volunteers Fifes &amp; Drums
REFRESH-INTERVAL;VALUE=DURATION:PT1H
X-Robots-Tag:noindex
X-PUBLISHED-TTL:PT1H
BEGIN:VTIMEZONE
TZID:America/New_York
BEGIN:DAYLIGHT
TZOFFSETFROM:-0500
TZOFFSETTO:-0400
TZNAME:EDT
DTSTART:20220313T070000
END:DAYLIGHT
BEGIN:STANDARD
TZOFFSETFROM:-0400
TZOFFSETTO:-0500
TZNAME:EST
DTSTART:20221106T060000
END:STANDARD
BEGIN:DAYLIGHT
TZOFFSETFROM:-0500
TZOFFSETTO:-0400
TZNAME:EDT
DTSTART:20230312T070000
END:DAYLIGHT
BEGIN:STANDARD
TZOFFSETFROM:-0400
TZOFFSETTO:-0500
TZNAME:EST
DTSTART:20231105T060000
END:STANDARD
BEGIN:DAYLIGHT
TZOFFSETFROM:-0500
TZOFFSETTO:-0400
TZNAME:EDT
DTSTART:20240310T070000
END:DAYLIGHT
BEGIN:STANDARD
TZOFFSETFROM:-0400
TZOFFSETTO:-0500
TZNAME:EST
DTSTART:20241103T060000
END:STANDARD
END:VTIMEZONE
BEGIN:VEVENT
DTSTART;TZID=America/New_York:20231216T190000
DTEND;TZID=America/New_York:20231216T200000
DTSTAMP:20260424T162118
CREATED:20230916T162354Z
LAST-MODIFIED:20231128T202753Z
UID:10000310-1702753200-1702756800@www.mcvfifesanddrums.org
SUMMARY:Boston Tea Party 250th Celebration
DESCRIPTION:MCV will be a featured performer at the Boston Tea Party Museum’s 250th commemoration\, to be held on Saturday\, December 16\, 2023. \nMCV will perform next to the Tea Party Ships from 7:15 – 7:45 pm as the assembled audience awaits the arrival of the Rolling Rally. The reenactment of the destruction of the tea will commence at 8:00 pm. We hope many of our Boston area fans can join us for this free event!
URL:https://www.mcvfifesanddrums.org/event/boston-tea-party-250th-celebration/
LOCATION:Boston Tea Party Ship Museum\, 306 Congress St\, Boston\, 02210\, United States
CATEGORIES:Ceremony,Concert,MCV Calendar
ATTACH;FMTTYPE=image/jpeg:https://www.mcvfifesanddrums.org/blog/wp-content/uploads/2023/09/BostonTeaParty250.jpg
END:VEVENT
END:VCALENDAR