BEGIN:VCALENDAR
VERSION:2.0
PRODID:-//Middlesex County Volunteers Fifes &amp; Drums - ECPv6.15.20//NONSGML v1.0//EN
CALSCALE:GREGORIAN
METHOD:PUBLISH
X-ORIGINAL-URL:https://www.mcvfifesanddrums.org
X-WR-CALDESC:Events for Middlesex County Volunteers Fifes &amp; Drums
REFRESH-INTERVAL;VALUE=DURATION:PT1H
X-Robots-Tag:noindex
X-PUBLISHED-TTL:PT1H
BEGIN:VTIMEZONE
TZID:America/New_York
BEGIN:DAYLIGHT
TZOFFSETFROM:-0500
TZOFFSETTO:-0400
TZNAME:EDT
DTSTART:20250309T070000
END:DAYLIGHT
BEGIN:STANDARD
TZOFFSETFROM:-0400
TZOFFSETTO:-0500
TZNAME:EST
DTSTART:20251102T060000
END:STANDARD
BEGIN:DAYLIGHT
TZOFFSETFROM:-0500
TZOFFSETTO:-0400
TZNAME:EDT
DTSTART:20260308T070000
END:DAYLIGHT
BEGIN:STANDARD
TZOFFSETFROM:-0400
TZOFFSETTO:-0500
TZNAME:EST
DTSTART:20261101T060000
END:STANDARD
BEGIN:DAYLIGHT
TZOFFSETFROM:-0500
TZOFFSETTO:-0400
TZNAME:EDT
DTSTART:20270314T070000
END:DAYLIGHT
BEGIN:STANDARD
TZOFFSETFROM:-0400
TZOFFSETTO:-0500
TZNAME:EST
DTSTART:20271107T060000
END:STANDARD
END:VTIMEZONE
BEGIN:VEVENT
DTSTART;TZID=America/New_York:20260724T181500
DTEND;TZID=America/New_York:20260724T190000
DTSTAMP:20260424T163650
CREATED:20260423T193110Z
LAST-MODIFIED:20260423T193110Z
UID:10000355-1784916900-1784919600@www.mcvfifesanddrums.org
SUMMARY:Lowell Folk Festival
DESCRIPTION:MCV will have the honor to open this year’s Lowell Folk Festival on Friday\, July 24th in Lowell\, Massachusetts.  MCV will lead a short parade at 6:15 pm\, stepping off from Lowell City Hall and ending at the Festival stage in Boarding House Park.
URL:https://www.mcvfifesanddrums.org/event/lowell-folk-festival/
LOCATION:Boarding House Park\, 40 French St\, Lowell\, United States
CATEGORIES:Concert,Festival,MCV Calendar,Parade
ATTACH;FMTTYPE=image/jpeg:https://www.mcvfifesanddrums.org/blog/wp-content/uploads/2026/04/LowellFolkFestival-sm.jpg
END:VEVENT
END:VCALENDAR