BEGIN:VCALENDAR
VERSION:2.0
PRODID:-//Middlesex County Volunteers Fifes &amp; Drums - ECPv6.15.20//NONSGML v1.0//EN
CALSCALE:GREGORIAN
METHOD:PUBLISH
X-WR-CALNAME:Middlesex County Volunteers Fifes &amp; Drums
X-ORIGINAL-URL:https://www.mcvfifesanddrums.org
X-WR-CALDESC:Events for Middlesex County Volunteers Fifes &amp; Drums
REFRESH-INTERVAL;VALUE=DURATION:PT1H
X-Robots-Tag:noindex
X-PUBLISHED-TTL:PT1H
BEGIN:VTIMEZONE
TZID:America/New_York
BEGIN:DAYLIGHT
TZOFFSETFROM:-0500
TZOFFSETTO:-0400
TZNAME:EDT
DTSTART:20220313T070000
END:DAYLIGHT
BEGIN:STANDARD
TZOFFSETFROM:-0400
TZOFFSETTO:-0500
TZNAME:EST
DTSTART:20221106T060000
END:STANDARD
BEGIN:DAYLIGHT
TZOFFSETFROM:-0500
TZOFFSETTO:-0400
TZNAME:EDT
DTSTART:20230312T070000
END:DAYLIGHT
BEGIN:STANDARD
TZOFFSETFROM:-0400
TZOFFSETTO:-0500
TZNAME:EST
DTSTART:20231105T060000
END:STANDARD
BEGIN:DAYLIGHT
TZOFFSETFROM:-0500
TZOFFSETTO:-0400
TZNAME:EDT
DTSTART:20240310T070000
END:DAYLIGHT
BEGIN:STANDARD
TZOFFSETFROM:-0400
TZOFFSETTO:-0500
TZNAME:EST
DTSTART:20241103T060000
END:STANDARD
BEGIN:DAYLIGHT
TZOFFSETFROM:-0500
TZOFFSETTO:-0400
TZNAME:EDT
DTSTART:20250309T070000
END:DAYLIGHT
BEGIN:STANDARD
TZOFFSETFROM:-0400
TZOFFSETTO:-0500
TZNAME:EST
DTSTART:20251102T060000
END:STANDARD
BEGIN:DAYLIGHT
TZOFFSETFROM:-0500
TZOFFSETTO:-0400
TZNAME:EDT
DTSTART:20260308T070000
END:DAYLIGHT
BEGIN:STANDARD
TZOFFSETFROM:-0400
TZOFFSETTO:-0500
TZNAME:EST
DTSTART:20261101T060000
END:STANDARD
BEGIN:DAYLIGHT
TZOFFSETFROM:-0500
TZOFFSETTO:-0400
TZNAME:EDT
DTSTART:20270314T070000
END:DAYLIGHT
BEGIN:STANDARD
TZOFFSETFROM:-0400
TZOFFSETTO:-0500
TZNAME:EST
DTSTART:20271107T060000
END:STANDARD
END:VTIMEZONE
BEGIN:VTIMEZONE
TZID:America/Halifax
BEGIN:DAYLIGHT
TZOFFSETFROM:-0400
TZOFFSETTO:-0300
TZNAME:ADT
DTSTART:20230312T060000
END:DAYLIGHT
BEGIN:STANDARD
TZOFFSETFROM:-0300
TZOFFSETTO:-0400
TZNAME:AST
DTSTART:20231105T050000
END:STANDARD
BEGIN:DAYLIGHT
TZOFFSETFROM:-0400
TZOFFSETTO:-0300
TZNAME:ADT
DTSTART:20240310T060000
END:DAYLIGHT
BEGIN:STANDARD
TZOFFSETFROM:-0300
TZOFFSETTO:-0400
TZNAME:AST
DTSTART:20241103T050000
END:STANDARD
BEGIN:DAYLIGHT
TZOFFSETFROM:-0400
TZOFFSETTO:-0300
TZNAME:ADT
DTSTART:20250309T060000
END:DAYLIGHT
BEGIN:STANDARD
TZOFFSETFROM:-0300
TZOFFSETTO:-0400
TZNAME:AST
DTSTART:20251102T050000
END:STANDARD
END:VTIMEZONE
BEGIN:VEVENT
DTSTART;TZID=America/New_York:20260214T143000
DTEND;TZID=America/New_York:20260214T153000
DTSTAMP:20260424T161913
CREATED:20260116T164857Z
LAST-MODIFIED:20260116T165116Z
UID:10000347-1771079400-1771083000@www.mcvfifesanddrums.org
SUMMARY:Mid-Atlantic Flute Convention
DESCRIPTION:MCV will be performing at the Mid-Atlantic Flute Convention on Saturday\, February 14\, 2026. MCV will be in the Red Fox Room at 2:30 pm.
URL:https://www.mcvfifesanddrums.org/event/mid-atlantic-flute-convention/
LOCATION:Hilton Washington Dulles Airport\, 13869 Park Center Road\, Herndon\, VA\, 20171\, United States
CATEGORIES:Conference,MCV Calendar,Ticketed event
ATTACH;FMTTYPE=image/jpeg:https://www.mcvfifesanddrums.org/blog/wp-content/uploads/2026/01/MidAtlanticFluteConventionSM.jpg
END:VEVENT
BEGIN:VEVENT
DTSTART;TZID=America/New_York:20251213T200000
DTEND;TZID=America/New_York:20251213T220000
DTSTAMP:20260424T161913
CREATED:20250826T204324Z
LAST-MODIFIED:20250914T143410Z
UID:10000345-1765656000-1765663200@www.mcvfifesanddrums.org
SUMMARY:In concert with Massachusetts Symphony Orchestra
DESCRIPTION:MCV will make our Mechanics Hall debut on Saturday\, December 13th at 8:00 pm as featured guest artists with the Massachusetts Symphony Orchestra in their annual Holiday Pops concert. \n  \nBe sure to order tickets early as this event has sold out for the past 44 years! \n 
URL:https://www.mcvfifesanddrums.org/event/in-concert-with-massachusetts-symphony-orchestra/
LOCATION:Mechanics Hall\, 321 Main St\, Worcester\, 01608\, United States
CATEGORIES:Concert,MCV Calendar,Orchestral performance,Ticketed event
ATTACH;FMTTYPE=image/jpeg:https://www.mcvfifesanddrums.org/blog/wp-content/uploads/2025/08/MSOHoliday-Mechanics-1.jpeg
END:VEVENT
BEGIN:VEVENT
DTSTART;TZID=America/New_York:20251109T160000
DTEND;TZID=America/New_York:20251109T180000
DTSTAMP:20260424T161913
CREATED:20250816T211036Z
LAST-MODIFIED:20251014T182754Z
UID:10000343-1762704000-1762711200@www.mcvfifesanddrums.org
SUMMARY:In concert with Cambridge Symphony Orchestra
DESCRIPTION:The Cambridge Symphony Orchestra welcomes Boston City Singers Children’s Opera\, New World Chorale\, and MCV in a semi-staged production of Puccini’s iconic opera\, La Bohème. \nfeaturing: \nKayla Harriott as Mimi\nEric Botto as Rodolfo\nMelissa Joseph as Musetta\nRon Loyd as Marcello\nJunhan Choi as Schaunard \nBoston City Singers Children’s Opera\nRhaea D’Aliesio\, Artistic Director \nNew World Chorale\nHolly Krafka\, Music Director \nMiddlesex County Volunteers Fifes & Drums \nThis marks MCV’s first ever performance in an opera.
URL:https://www.mcvfifesanddrums.org/event/in-concert-with-cambridge-symphony-orchestra/
LOCATION:MIT Kresge Auditorium\, 48 Massachusetts Avenue w16\, Cambridge\, 02139\, United States
CATEGORIES:Concert,MCV Calendar,Orchestral performance,Ticketed event
ATTACH;FMTTYPE=image/jpeg:https://www.mcvfifesanddrums.org/blog/wp-content/uploads/2025/08/CSO-LaBoheme-website-sm.jpg
END:VEVENT
BEGIN:VEVENT
DTSTART;TZID=America/New_York:20251107T193000
DTEND;TZID=America/New_York:20251107T210000
DTSTAMP:20260424T161913
CREATED:20250729T164405Z
LAST-MODIFIED:20250729T164405Z
UID:10000341-1762543800-1762549200@www.mcvfifesanddrums.org
SUMMARY:Veterans Day concert at Methuen Memorial Music Hall
DESCRIPTION:In America:  Traditional and Contemporary Music for Fifes and Drums featuring Middlesex County Volunteers Fifes & Drums\n\nMCV is pleased to make our Methuen Memorial Music Hall debut on Friday\, 7 November 2025 at 7:30 pm as part of the Hall’s annual Veterans Day concert.  MCV will be celebrating the 20th anniversary of the release of our well loved album In America and will present music from the album\, as well as more recent repertoire.  Tickets go on sale in August.   Free admission for Veterans.
URL:https://www.mcvfifesanddrums.org/event/veterans-day-concert-at-methuen-memorial-music-hall/
LOCATION:Methuen Memorial Music Hall\, 192 Broadway\, Metheun\, 01844\, United States
CATEGORIES:Concert,MCV Calendar,MCV Fall Concert,Ticketed event
ATTACH;FMTTYPE=image/png:https://www.mcvfifesanddrums.org/blog/wp-content/uploads/2025/07/mmmh-logo-new.png
END:VEVENT
BEGIN:VEVENT
DTSTART;VALUE=DATE:20251011
DTEND;VALUE=DATE:20251014
DTSTAMP:20260424T161913
CREATED:20250322T170549Z
LAST-MODIFIED:20250322T170549Z
UID:10000336-1760144400-1760317199@www.mcvfifesanddrums.org
SUMMARY:Feast of the Hunters Moon
DESCRIPTION:MCV will make our debut performance at the Feast of The Hunters’ Moon on October 11 & 12\, 2025 in West Lafayette\, Indiana. MCV will be participating in the fife and drum muster and performing in both the Opening Ceremony on Saturday\, October 11 and the Closing Ceremony on Sunday\, October 12. \n 
URL:https://www.mcvfifesanddrums.org/event/feast-of-the-hunters-moon/
LOCATION:Fort Ouiatenon\, 3129 S. River Road\, West Lafayette\, IN\, 47906\, United States
CATEGORIES:Community Outreach,Concert,Fife & Drum Muster,MCV Calendar,Ticketed event,USA Tour
ATTACH;FMTTYPE=image/jpeg:https://www.mcvfifesanddrums.org/blog/wp-content/uploads/2025/03/Feast2025.jpg
END:VEVENT
BEGIN:VEVENT
DTSTART;TZID=America/New_York:20250913T180000
DTEND;TZID=America/New_York:20250913T190000
DTSTAMP:20260424T161913
CREATED:20250806T132025Z
LAST-MODIFIED:20250806T132025Z
UID:10000342-1757786400-1757790000@www.mcvfifesanddrums.org
SUMMARY:The Big  Parade at The Big E
DESCRIPTION:MCV will make our debut in The Big Parade at the Eastern States Exposition (aka The Big E) on Saturday\, September 13th at 6:00 pm. \n 
URL:https://www.mcvfifesanddrums.org/event/the-big-parade-at-the-big-e/
LOCATION:Eastern States Exposition\, 1305 Memorial Ave\, West Springfield\, 01089\, United States
CATEGORIES:MCV Calendar,Parade,Ticketed event
ATTACH;FMTTYPE=image/jpeg:https://www.mcvfifesanddrums.org/blog/wp-content/uploads/2025/08/THE-BIG-E.jpg
END:VEVENT
BEGIN:VEVENT
DTSTART;TZID=America/New_York:20250913T144500
DTEND;TZID=America/New_York:20250913T151500
DTSTAMP:20260424T161913
CREATED:20250817T134440Z
LAST-MODIFIED:20250817T134440Z
UID:10000344-1757774700-1757776500@www.mcvfifesanddrums.org
SUMMARY:Concert at Storrowtown Gazebo at The Big E
DESCRIPTION:MCV will perform in front of the Storrowtown Village gazebo at The Big E on Saturday\, 13 September from 2:45-3:15 pm.  Hope to see many of our Western MA fans at the Fair!
URL:https://www.mcvfifesanddrums.org/event/concert-at-storrowtown-gazebo-at-the-big-e/
LOCATION:Eastern States Exposition\, 1305 Memorial Ave\, West Springfield\, 01089\, United States
CATEGORIES:Concert,MCV Calendar,Ticketed event
ATTACH;FMTTYPE=image/jpeg:https://www.mcvfifesanddrums.org/blog/wp-content/uploads/2025/08/Storrowton_Header.jpg
END:VEVENT
BEGIN:VEVENT
DTSTART;TZID=America/New_York:20250531T130000
DTEND;TZID=America/New_York:20250531T140000
DTSTAMP:20260424T161913
CREATED:20250104T155934Z
LAST-MODIFIED:20250520T201656Z
UID:10000332-1748696400-1748700000@www.mcvfifesanddrums.org
SUMMARY:WBUR Festival
DESCRIPTION:MCV is thrilled to participate in the WBUR Festival on Saturday\, May 31\, 2025 in downtown Boston. The Festival celebrates WBUR Radio’s 75th anniversary. \nMCV will be performing at 12:30 pm in the Festival area. Full event schedule available from the WBUR Festival website.
URL:https://www.mcvfifesanddrums.org/event/wbur-festival/
LOCATION:WBUR Festival\, 890 Commonwealth Ave\, Boston\, 02215\, United States
CATEGORIES:Concert,MCV Calendar,Parade,Ticketed event
ATTACH;FMTTYPE=image/jpeg:https://www.mcvfifesanddrums.org/blog/wp-content/uploads/2025/01/WBUR-Festival.jpg
END:VEVENT
BEGIN:VEVENT
DTSTART;TZID=America/New_York:20250517T120000
DTEND;TZID=America/New_York:20250517T210000
DTSTAMP:20260424T161913
CREATED:20160215T014351Z
LAST-MODIFIED:20250104T165154Z
UID:10000242-1747483200-1747515600@www.mcvfifesanddrums.org
SUMMARY:Drummers Call at Colonial Williamsburg
DESCRIPTION:  \n  \nMCV will attend Drummers Call at Colonial Williamsburg\, in Williamsburg\, Virginia on Saturday\, May 17.   \nThe day will feature a parade of fife & drum corps\, an afternoon Muster and a twilight march and Tattoo.  \nFurther information will be posted at this link when available. \n  \n 
URL:https://www.mcvfifesanddrums.org/event/drummers-call-at-colonial-williamsburg/
LOCATION:Colonial Willamsburg\, 1 Duke of Gloucester St.\, Williamsburg\, VA\, United States
CATEGORIES:Concert,Fife & Drum Muster,MCV Calendar,Parade,Ticketed event,USA Tour
ATTACH;FMTTYPE=image/jpeg:https://www.mcvfifesanddrums.org/blog/wp-content/uploads/2016/04/CW-MCV.jpg
END:VEVENT
BEGIN:VEVENT
DTSTART;TZID=America/New_York:20250516T190000
DTEND;TZID=America/New_York:20250516T203000
DTSTAMP:20260424T161913
CREATED:20241206T145824Z
LAST-MODIFIED:20241206T145824Z
UID:10000331-1747422000-1747427400@www.mcvfifesanddrums.org
SUMMARY:Successful Campaign concert
DESCRIPTION:MCV will be guest performers in Colonial Williamsburg’s Successful Campaign concert\, presented annually in conjunction with the annual Drummers Call weekend.  Info on tickets\, venue and start time will be announced on this webpage when available.
URL:https://www.mcvfifesanddrums.org/event/successful-campaign-concert/
LOCATION:Colonial Willamsburg\, 1 Duke of Gloucester St.\, Williamsburg\, VA\, United States
CATEGORIES:Concert,MCV Calendar,Ticketed event,USA Tour
ATTACH;FMTTYPE=image/jpeg:https://www.mcvfifesanddrums.org/blog/wp-content/uploads/2024/12/CW-MCV.jpg
END:VEVENT
BEGIN:VEVENT
DTSTART;TZID=America/New_York:20250413T140000
DTEND;TZID=America/New_York:20250413T160000
DTSTAMP:20260424T161913
CREATED:20250316T130700Z
LAST-MODIFIED:20250316T130700Z
UID:10000335-1744552800-1744560000@www.mcvfifesanddrums.org
SUMMARY:Scottish Rite Masonic Museum & Library 50th Anniversary Celebration
DESCRIPTION:MCV will perform at the Scottish Rite Masonic Museum & Library in Lexington\, MA as part of their 50th Anniversary Celebration & Rededication on Sunday\, 13 April. \nFor attendees: there is no cost to attend but an RSVP must be submitted prior to the event.
URL:https://www.mcvfifesanddrums.org/event/scottish-rite-masonic-museum-library-50th-anniversary-celebration/
LOCATION:Scottish Rite Masonic Museum & Library\, 33 Marret Rd\, Lexington\, MA\, 02421\, United States
CATEGORIES:Ceremony,Concert,MCV Calendar,Ticketed event
ATTACH;FMTTYPE=image/jpeg:https://www.mcvfifesanddrums.org/blog/wp-content/uploads/2025/03/SRMML-50th-med.jpg
END:VEVENT
BEGIN:VEVENT
DTSTART;TZID=America/Halifax:20240701T140000
DTEND;TZID=America/Halifax:20240701T163000
DTSTAMP:20260424T161913
CREATED:20240229T170543Z
LAST-MODIFIED:20240229T170544Z
UID:10000319-1719842400-1719851400@www.mcvfifesanddrums.org
SUMMARY:Royal Nova Scotia International Tattoo
DESCRIPTION:MCV returns to Halifax to perform at the Royal Nova Scotia International Tattoo. \nTickets available from the Tattoo.
URL:https://www.mcvfifesanddrums.org/event/royal-nova-scotia-international-tattoo-5/
LOCATION:ScotiaBank Centre\, 1800 Argyle Street\, Halifax\, Nova Scotia\, B3J 2V9\, Canada
CATEGORIES:MCV Calendar,Overseas Tour,Tattoo,Ticketed event
ATTACH;FMTTYPE=image/jpeg:https://www.mcvfifesanddrums.org/blog/wp-content/uploads/2024/02/RNSITlogo.jpg
END:VEVENT
BEGIN:VEVENT
DTSTART;VALUE=DATE:20240630
DTEND;VALUE=DATE:20240702
DTSTAMP:20260424T161913
CREATED:20240229T170458Z
LAST-MODIFIED:20240229T170459Z
UID:10000318-1719709200-1719795599@www.mcvfifesanddrums.org
SUMMARY:Royal Nova Scotia International Tattoo
DESCRIPTION:MCV returns to Halifax to perform at the Royal Nova Scotia International Tattoo. \nTickets available from the Tattoo.
URL:https://www.mcvfifesanddrums.org/event/royal-nova-scotia-international-tattoo-4/
LOCATION:ScotiaBank Centre\, 1800 Argyle Street\, Halifax\, Nova Scotia\, B3J 2V9\, Canada
CATEGORIES:MCV Calendar,Overseas Tour,Tattoo,Ticketed event
ATTACH;FMTTYPE=image/jpeg:https://www.mcvfifesanddrums.org/blog/wp-content/uploads/2024/02/RNSITlogo.jpg
END:VEVENT
BEGIN:VEVENT
DTSTART;TZID=America/Halifax:20240629T140000
DTEND;TZID=America/Halifax:20240629T163000
DTSTAMP:20260424T161913
CREATED:20240229T170303Z
LAST-MODIFIED:20240229T171049Z
UID:10000315-1719669600-1719678600@www.mcvfifesanddrums.org
SUMMARY:Royal Nova Scotia International Tattoo
DESCRIPTION:MCV returns to Halifax to perform at the Royal Nova Scotia International Tattoo. \nTickets available from the Tattoo.
URL:https://www.mcvfifesanddrums.org/event/royal-nova-scotia-international-tattoo-3/
LOCATION:ScotiaBank Centre\, 1800 Argyle Street\, Halifax\, Nova Scotia\, B3J 2V9\, Canada
CATEGORIES:MCV Calendar,Overseas Tour,Tattoo,Ticketed event
ATTACH;FMTTYPE=image/jpeg:https://www.mcvfifesanddrums.org/blog/wp-content/uploads/2024/02/RNSITlogo.jpg
END:VEVENT
BEGIN:VEVENT
DTSTART;TZID=America/Halifax:20240628T190000
DTEND;TZID=America/Halifax:20240628T213000
DTSTAMP:20260424T161913
CREATED:20240229T170212Z
LAST-MODIFIED:20240229T171116Z
UID:10000317-1719601200-1719610200@www.mcvfifesanddrums.org
SUMMARY:Royal Nova Scotia International Tattoo
DESCRIPTION:MCV returns to Halifax to perform at the Royal Nova Scotia International Tattoo. \nTickets available from the Tattoo.
URL:https://www.mcvfifesanddrums.org/event/royal-nova-scotia-international-tattoo-2/
LOCATION:ScotiaBank Centre\, 1800 Argyle Street\, Halifax\, Nova Scotia\, B3J 2V9\, Canada
CATEGORIES:MCV Calendar,Overseas Tour,Tattoo,Ticketed event
ATTACH;FMTTYPE=image/jpeg:https://www.mcvfifesanddrums.org/blog/wp-content/uploads/2024/02/RNSITlogo.jpg
END:VEVENT
BEGIN:VEVENT
DTSTART;TZID=America/New_York:20231019T190000
DTEND;TZID=America/New_York:20231019T210000
DTSTAMP:20260424T161913
CREATED:20190908T200842Z
LAST-MODIFIED:20230829T215514Z
UID:10000221-1697742000-1697749200@www.mcvfifesanddrums.org
SUMMARY:USS Constitution Museum Annual Gala
DESCRIPTION:MCV will perform at the USS Constitution Museum Golden Gala\, to be held at the Boston Harbor Hotel on October 19\, 2023.
URL:https://www.mcvfifesanddrums.org/event/uss-constitution-museum-annual-gala/
LOCATION:Boston Harbor Hotel\, 70 Rowes Wharf\, Boston\, 02110\, United States
CATEGORIES:Concert,Fundraiser,MCV Calendar,Ticketed event
ATTACH;FMTTYPE=image/jpeg:https://www.mcvfifesanddrums.org/blog/wp-content/uploads/2019/09/Golden-Gala-ConstitutionMuseum.jpg
END:VEVENT
BEGIN:VEVENT
DTSTART;TZID=America/New_York:20230420T180000
DTEND;TZID=America/New_York:20230420T200000
DTSTAMP:20260424T161913
CREATED:20230127T145820Z
LAST-MODIFIED:20230127T145820Z
UID:10000289-1682013600-1682020800@www.mcvfifesanddrums.org
SUMMARY:Lanterns & Luminaries at Old North Church
DESCRIPTION:MCV will have the distinct pleasure to perform during Lanterns & Luminaries at Boston’s Old North Church & Historic Site\, to be held on Thursday\, April 20\, 2023. We will be providing music during the event. \n  \nDetails on this major fundraising event for the Church are available from their website. \n\n 
URL:https://www.mcvfifesanddrums.org/event/lantern-luminaries/
LOCATION:Old North Church\, 193 Salem St\, Boston\, MA\, 02113\, United States
CATEGORIES:Ceremony,Concert,Fundraiser,MCV Calendar,Ticketed event
ATTACH;FMTTYPE=image/png:https://www.mcvfifesanddrums.org/blog/wp-content/uploads/2023/01/Lanterns-and-Luminaries-April-20-2023.png
END:VEVENT
END:VCALENDAR