BEGIN:VCALENDAR
VERSION:2.0
PRODID:-//Middlesex County Volunteers Fifes &amp; Drums - ECPv6.15.20//NONSGML v1.0//EN
CALSCALE:GREGORIAN
METHOD:PUBLISH
X-ORIGINAL-URL:https://www.mcvfifesanddrums.org
X-WR-CALDESC:Events for Middlesex County Volunteers Fifes &amp; Drums
REFRESH-INTERVAL;VALUE=DURATION:PT1H
X-Robots-Tag:noindex
X-PUBLISHED-TTL:PT1H
BEGIN:VTIMEZONE
TZID:America/New_York
BEGIN:DAYLIGHT
TZOFFSETFROM:-0500
TZOFFSETTO:-0400
TZNAME:EDT
DTSTART:20230312T070000
END:DAYLIGHT
BEGIN:STANDARD
TZOFFSETFROM:-0400
TZOFFSETTO:-0500
TZNAME:EST
DTSTART:20231105T060000
END:STANDARD
BEGIN:DAYLIGHT
TZOFFSETFROM:-0500
TZOFFSETTO:-0400
TZNAME:EDT
DTSTART:20240310T070000
END:DAYLIGHT
BEGIN:STANDARD
TZOFFSETFROM:-0400
TZOFFSETTO:-0500
TZNAME:EST
DTSTART:20241103T060000
END:STANDARD
BEGIN:DAYLIGHT
TZOFFSETFROM:-0500
TZOFFSETTO:-0400
TZNAME:EDT
DTSTART:20250309T070000
END:DAYLIGHT
BEGIN:STANDARD
TZOFFSETFROM:-0400
TZOFFSETTO:-0500
TZNAME:EST
DTSTART:20251102T060000
END:STANDARD
END:VTIMEZONE
BEGIN:VEVENT
DTSTART;TZID=America/New_York:20240917T103000
DTEND;TZID=America/New_York:20240917T120000
DTSTAMP:20260424T162101
CREATED:20240827T160556Z
LAST-MODIFIED:20240911T134203Z
UID:10000328-1726569000-1726574400@www.mcvfifesanddrums.org
SUMMARY:MA250 Program Launch
DESCRIPTION:MCV will provide music for the official program launch of MA250: the celebration of the 250th anniversary of the American Revolution.  Join MCV at the Massachusetts State House in Boston on Tuesday\, September 17th. The event will begin at 10:50 am with a short procession up Beacon Street to the State House\, followed by speeches and then music provided by MCV at the conclusion of the program. \n 
URL:https://www.mcvfifesanddrums.org/event/ma250-program-launch/
LOCATION:Massachusetts State House\, 24 Beacon St\, Boston\, 02133\, United States
CATEGORIES:Ceremony,Concert,Conference,MCV Calendar,Press conference
ATTACH;FMTTYPE=image/jpeg:https://www.mcvfifesanddrums.org/blog/wp-content/uploads/2024/08/MA250-web.jpg
END:VEVENT
END:VCALENDAR