BEGIN:VCALENDAR
VERSION:2.0
PRODID:-//Middlesex County Volunteers Fifes &amp; Drums - ECPv6.15.20//NONSGML v1.0//EN
CALSCALE:GREGORIAN
METHOD:PUBLISH
X-WR-CALNAME:Middlesex County Volunteers Fifes &amp; Drums
X-ORIGINAL-URL:https://www.mcvfifesanddrums.org
X-WR-CALDESC:Events for Middlesex County Volunteers Fifes &amp; Drums
REFRESH-INTERVAL;VALUE=DURATION:PT1H
X-Robots-Tag:noindex
X-PUBLISHED-TTL:PT1H
BEGIN:VTIMEZONE
TZID:UTC
BEGIN:STANDARD
TZOFFSETFROM:+0000
TZOFFSETTO:+0000
TZNAME:UTC
DTSTART:20250101T000000
END:STANDARD
END:VTIMEZONE
BEGIN:VEVENT
DTSTART;TZID=UTC:20260525T100000
DTEND;TZID=UTC:20260525T110000
DTSTAMP:20260421T090348
CREATED:20161212T030520Z
LAST-MODIFIED:20260116T181342Z
UID:10000248-1779703200-1779706800@www.mcvfifesanddrums.org
SUMMARY:Andover Memorial Day Parade
DESCRIPTION:  \nMCV will march in the annual Memorial Day parade through downtown Andover\, Massachusetts.
URL:https://www.mcvfifesanddrums.org/event/andover-memorial-day-parade/
LOCATION:Andover Old Town Hall\, 36 Bartlett St\, Andover\, MA\, 01810\, United States
CATEGORIES:MCV Calendar,Parade
ATTACH;FMTTYPE=image/jpeg:https://www.mcvfifesanddrums.org/blog/wp-content/uploads/2016/12/2023-AndoverMemDayparade.jpg
END:VEVENT
END:VCALENDAR