BEGIN:VCALENDAR
VERSION:2.0
PRODID:-//Middlesex County Volunteers Fifes &amp; Drums - ECPv6.15.20//NONSGML v1.0//EN
CALSCALE:GREGORIAN
METHOD:PUBLISH
X-ORIGINAL-URL:https://www.mcvfifesanddrums.org
X-WR-CALDESC:Events for Middlesex County Volunteers Fifes &amp; Drums
REFRESH-INTERVAL;VALUE=DURATION:PT1H
X-Robots-Tag:noindex
X-PUBLISHED-TTL:PT1H
BEGIN:VTIMEZONE
TZID:America/New_York
BEGIN:DAYLIGHT
TZOFFSETFROM:-0500
TZOFFSETTO:-0400
TZNAME:EDT
DTSTART:20250309T070000
END:DAYLIGHT
BEGIN:STANDARD
TZOFFSETFROM:-0400
TZOFFSETTO:-0500
TZNAME:EST
DTSTART:20251102T060000
END:STANDARD
BEGIN:DAYLIGHT
TZOFFSETFROM:-0500
TZOFFSETTO:-0400
TZNAME:EDT
DTSTART:20260308T070000
END:DAYLIGHT
BEGIN:STANDARD
TZOFFSETFROM:-0400
TZOFFSETTO:-0500
TZNAME:EST
DTSTART:20261101T060000
END:STANDARD
BEGIN:DAYLIGHT
TZOFFSETFROM:-0500
TZOFFSETTO:-0400
TZNAME:EDT
DTSTART:20270314T070000
END:DAYLIGHT
BEGIN:STANDARD
TZOFFSETFROM:-0400
TZOFFSETTO:-0500
TZNAME:EST
DTSTART:20271107T060000
END:STANDARD
END:VTIMEZONE
BEGIN:VEVENT
DTSTART;TZID=America/New_York:20260502T113000
DTEND;TZID=America/New_York:20260502T170000
DTSTAMP:20260421T074508
CREATED:20151122T024535Z
LAST-MODIFIED:20251215T191632Z
UID:10000231-1777721400-1777741200@www.mcvfifesanddrums.org
SUMMARY:Lexington Fife & Drum Muster
DESCRIPTION:Annual Lexington fife and drum muster\, presented by William Diamond Juniors Fife & Drum Corps. The parade of fife and drum corps will commence at 12:00 pm\, followed by “on-stand” performances throughout the afternoon. \nNote the Muster is being held at Hastings Park in Lexington this year. \n 
URL:https://www.mcvfifesanddrums.org/event/william-diamond-jr-fife-drum-muster/
LOCATION:Hastings Park\, 119 Lincoln Street\, Lexington\, MA\, 02421\, United States
CATEGORIES:Fife & Drum Muster,MCV Calendar
ATTACH;FMTTYPE=image/png:https://www.mcvfifesanddrums.org/blog/wp-content/uploads/2015/11/WDJMuster2023-MCV.png
END:VEVENT
END:VCALENDAR