BEGIN:VCALENDAR
VERSION:2.0
PRODID:-//Middlesex County Volunteers Fifes &amp; Drums - ECPv6.15.20//NONSGML v1.0//EN
CALSCALE:GREGORIAN
METHOD:PUBLISH
X-ORIGINAL-URL:https://www.mcvfifesanddrums.org
X-WR-CALDESC:Events for Middlesex County Volunteers Fifes &amp; Drums
REFRESH-INTERVAL;VALUE=DURATION:PT1H
X-Robots-Tag:noindex
X-PUBLISHED-TTL:PT1H
BEGIN:VTIMEZONE
TZID:America/New_York
BEGIN:DAYLIGHT
TZOFFSETFROM:-0500
TZOFFSETTO:-0400
TZNAME:EDT
DTSTART:20250309T070000
END:DAYLIGHT
BEGIN:STANDARD
TZOFFSETFROM:-0400
TZOFFSETTO:-0500
TZNAME:EST
DTSTART:20251102T060000
END:STANDARD
BEGIN:DAYLIGHT
TZOFFSETFROM:-0500
TZOFFSETTO:-0400
TZNAME:EDT
DTSTART:20260308T070000
END:DAYLIGHT
BEGIN:STANDARD
TZOFFSETFROM:-0400
TZOFFSETTO:-0500
TZNAME:EST
DTSTART:20261101T060000
END:STANDARD
BEGIN:DAYLIGHT
TZOFFSETFROM:-0500
TZOFFSETTO:-0400
TZNAME:EDT
DTSTART:20270314T070000
END:DAYLIGHT
BEGIN:STANDARD
TZOFFSETFROM:-0400
TZOFFSETTO:-0500
TZNAME:EST
DTSTART:20271107T060000
END:STANDARD
END:VTIMEZONE
BEGIN:VTIMEZONE
TZID:UTC
BEGIN:STANDARD
TZOFFSETFROM:+0000
TZOFFSETTO:+0000
TZNAME:UTC
DTSTART:20250101T000000
END:STANDARD
END:VTIMEZONE
BEGIN:VEVENT
DTSTART;TZID=America/New_York:20260501T185000
DTEND;TZID=America/New_York:20260501T200000
DTSTAMP:20260423T045308
CREATED:20160128T020431Z
LAST-MODIFIED:20260309T212531Z
UID:10000240-1777661400-1777665600@www.mcvfifesanddrums.org
SUMMARY:Lexington Tattoo
DESCRIPTION:MCV will perform in the Lexington Tattoo\, presented by the William Diamond Junior Fife & Drum Corps\, to be held on historic Lexington Battle Green.  There is a short Tattoo parade starting at 6:50 pm as the three invited fife and drum corps march onto the Green. The Tattoo will commence at 7:00 pm and conclude at 8:00 pm. \n 
URL:https://www.mcvfifesanddrums.org/event/william-diamond-fife-drum-tattoo/
LOCATION:Lexington Battle Green\, 1625 Massachusetts Ave\, Lexington\, 02421\, United States
CATEGORIES:Concert,Fife & Drum Muster,MCV Calendar,Tattoo
ATTACH;FMTTYPE=image/jpeg:https://www.mcvfifesanddrums.org/blog/wp-content/uploads/2023/08/Brokenheart-ticketlogo.jpg
END:VEVENT
BEGIN:VEVENT
DTSTART;TZID=America/New_York:20260502T113000
DTEND;TZID=America/New_York:20260502T170000
DTSTAMP:20260423T045308
CREATED:20151122T024535Z
LAST-MODIFIED:20251215T191632Z
UID:10000231-1777721400-1777741200@www.mcvfifesanddrums.org
SUMMARY:Lexington Fife & Drum Muster
DESCRIPTION:Annual Lexington fife and drum muster\, presented by William Diamond Juniors Fife & Drum Corps. The parade of fife and drum corps will commence at 12:00 pm\, followed by “on-stand” performances throughout the afternoon. \nNote the Muster is being held at Hastings Park in Lexington this year. \n 
URL:https://www.mcvfifesanddrums.org/event/william-diamond-jr-fife-drum-muster/
LOCATION:Hastings Park\, 119 Lincoln Street\, Lexington\, MA\, 02421\, United States
CATEGORIES:Fife & Drum Muster,MCV Calendar
ATTACH;FMTTYPE=image/png:https://www.mcvfifesanddrums.org/blog/wp-content/uploads/2015/11/WDJMuster2023-MCV.png
END:VEVENT
BEGIN:VEVENT
DTSTART;TZID=America/New_York:20260512T160000
DTEND;TZID=America/New_York:20260512T180000
DTSTAMP:20260423T045308
CREATED:20260414T142309Z
LAST-MODIFIED:20260414T142309Z
UID:10000354-1778601600-1778608800@www.mcvfifesanddrums.org
SUMMARY:2026 Annual Meeting - Greater Boston Chamber of Commerce
DESCRIPTION:MCV will be greeting attendees to the 2026 Annual Meeting of the GreaterBoston Chamber of Commerce\, to be held at Thomas M. Menino Convention and Exhibition Center in Boston\, MA on Tuesday\, May 12th. \nThis is a ticketed event.
URL:https://www.mcvfifesanddrums.org/event/2026-annual-meeting-greater-boston-chamber-of-commerce/
LOCATION:Thomas M. Menino Convention and Exhibition Center\, 415 Summer St\, Boston\, 02210\, United States
CATEGORIES:Conference,MCV Calendar
ATTACH;FMTTYPE=image/webp:https://www.mcvfifesanddrums.org/blog/wp-content/uploads/2026/04/2026-Annual-Meeting-ALL-1920-x-1080-1-1.webp
END:VEVENT
BEGIN:VEVENT
DTSTART;TZID=America/New_York:20260516T110000
DTEND;TZID=America/New_York:20260516T123000
DTSTAMP:20260423T045308
CREATED:20240326T161044Z
LAST-MODIFIED:20260401T163046Z
UID:10000322-1778929200-1778934600@www.mcvfifesanddrums.org
SUMMARY:Somerville Salute to Service Parade
DESCRIPTION:MCV will march in the Salute to Service Parade in Somerville\, Massachusetts  on Saturday\, 5/16/2026.  Parade steps off at 11:00 am from Somerville City Hall\, ending at Trum Field.
URL:https://www.mcvfifesanddrums.org/event/somerville-saluteservice-parade/
LOCATION:Trum Field\, 541 Broadway\, Somerville\, MA\, 02143\, United States
CATEGORIES:MCV Calendar,Parade
ATTACH;FMTTYPE=image/jpeg:https://www.mcvfifesanddrums.org/blog/wp-content/uploads/2024/03/Somerville-MA-logo.jpg
END:VEVENT
BEGIN:VEVENT
DTSTART;TZID=America/New_York:20260517T130000
DTEND;TZID=America/New_York:20260517T150000
DTSTAMP:20260423T045308
CREATED:20260116T180838Z
LAST-MODIFIED:20260116T181108Z
UID:10000348-1779022800-1779030000@www.mcvfifesanddrums.org
SUMMARY:Wellesley Veterans Parade
DESCRIPTION:MCV will be marching in the annual Wellesley Veterans Parade on Sunday\, May 17th at 1:00 pm.
URL:https://www.mcvfifesanddrums.org/event/wellesley-veterans-parade/
LOCATION:Wellesley\, Massachusetts\, 1 Main St\, Wellesley\, United States
CATEGORIES:MCV Calendar,Parade
ATTACH;FMTTYPE=image/png:https://www.mcvfifesanddrums.org/blog/wp-content/uploads/2026/01/WellesleyMA.png
END:VEVENT
BEGIN:VEVENT
DTSTART;TZID=UTC:20260525T100000
DTEND;TZID=UTC:20260525T110000
DTSTAMP:20260423T045308
CREATED:20161212T030520Z
LAST-MODIFIED:20260116T181342Z
UID:10000248-1779703200-1779706800@www.mcvfifesanddrums.org
SUMMARY:Andover Memorial Day Parade
DESCRIPTION:  \nMCV will march in the annual Memorial Day parade through downtown Andover\, Massachusetts.
URL:https://www.mcvfifesanddrums.org/event/andover-memorial-day-parade/
LOCATION:Andover Old Town Hall\, 36 Bartlett St\, Andover\, MA\, 01810\, United States
CATEGORIES:MCV Calendar,Parade
ATTACH;FMTTYPE=image/jpeg:https://www.mcvfifesanddrums.org/blog/wp-content/uploads/2016/12/2023-AndoverMemDayparade.jpg
END:VEVENT
BEGIN:VEVENT
DTSTART;TZID=America/New_York:20260528T083000
DTEND;TZID=America/New_York:20260528T093000
DTSTAMP:20260423T045308
CREATED:20260314T154628Z
LAST-MODIFIED:20260314T154628Z
UID:10000352-1779957000-1779960600@www.mcvfifesanddrums.org
SUMMARY:Harvard University Commencement Exercises
DESCRIPTION:MCV will lead the processional for Harvard University’s Commencement Exercises on Thursday\, May 28\, 2026\, in celebration of Harvard’s 375th anniversary and USA250. \n 
URL:https://www.mcvfifesanddrums.org/event/harvard-university-commencement-exercises/
LOCATION:Harvard University\, 2 Kirkland St\, Cambridge\, 02138\, United States
CATEGORIES:Ceremony,MCV Calendar
ATTACH;FMTTYPE=image/jpeg:https://www.mcvfifesanddrums.org/blog/wp-content/uploads/2026/03/Harvard184.jpg
END:VEVENT
END:VCALENDAR