BEGIN:VCALENDAR
VERSION:2.0
PRODID:-//Middlesex County Volunteers Fifes &amp; Drums - ECPv6.15.20//NONSGML v1.0//EN
CALSCALE:GREGORIAN
METHOD:PUBLISH
X-WR-CALNAME:Middlesex County Volunteers Fifes &amp; Drums
X-ORIGINAL-URL:https://www.mcvfifesanddrums.org
X-WR-CALDESC:Events for Middlesex County Volunteers Fifes &amp; Drums
REFRESH-INTERVAL;VALUE=DURATION:PT1H
X-Robots-Tag:noindex
X-PUBLISHED-TTL:PT1H
BEGIN:VTIMEZONE
TZID:America/New_York
BEGIN:DAYLIGHT
TZOFFSETFROM:-0500
TZOFFSETTO:-0400
TZNAME:EDT
DTSTART:20250309T070000
END:DAYLIGHT
BEGIN:STANDARD
TZOFFSETFROM:-0400
TZOFFSETTO:-0500
TZNAME:EST
DTSTART:20251102T060000
END:STANDARD
BEGIN:DAYLIGHT
TZOFFSETFROM:-0500
TZOFFSETTO:-0400
TZNAME:EDT
DTSTART:20260308T070000
END:DAYLIGHT
BEGIN:STANDARD
TZOFFSETFROM:-0400
TZOFFSETTO:-0500
TZNAME:EST
DTSTART:20261101T060000
END:STANDARD
BEGIN:DAYLIGHT
TZOFFSETFROM:-0500
TZOFFSETTO:-0400
TZNAME:EDT
DTSTART:20270314T070000
END:DAYLIGHT
BEGIN:STANDARD
TZOFFSETFROM:-0400
TZOFFSETTO:-0500
TZNAME:EST
DTSTART:20271107T060000
END:STANDARD
END:VTIMEZONE
BEGIN:VEVENT
DTSTART;TZID=America/New_York:20260214T143000
DTEND;TZID=America/New_York:20260214T153000
DTSTAMP:20260421T090106
CREATED:20260116T164857Z
LAST-MODIFIED:20260116T165116Z
UID:10000347-1771079400-1771083000@www.mcvfifesanddrums.org
SUMMARY:Mid-Atlantic Flute Convention
DESCRIPTION:MCV will be performing at the Mid-Atlantic Flute Convention on Saturday\, February 14\, 2026. MCV will be in the Red Fox Room at 2:30 pm.
URL:https://www.mcvfifesanddrums.org/event/mid-atlantic-flute-convention/
LOCATION:Hilton Washington Dulles Airport\, 13869 Park Center Road\, Herndon\, VA\, 20171\, United States
CATEGORIES:Conference,MCV Calendar,Ticketed event
ATTACH;FMTTYPE=image/jpeg:https://www.mcvfifesanddrums.org/blog/wp-content/uploads/2026/01/MidAtlanticFluteConventionSM.jpg
END:VEVENT
END:VCALENDAR