BEGIN:VCALENDAR
VERSION:2.0
PRODID:-//Middlesex County Volunteers Fifes &amp; Drums - ECPv6.15.20//NONSGML v1.0//EN
CALSCALE:GREGORIAN
METHOD:PUBLISH
X-WR-CALNAME:Middlesex County Volunteers Fifes &amp; Drums
X-ORIGINAL-URL:https://www.mcvfifesanddrums.org
X-WR-CALDESC:Events for Middlesex County Volunteers Fifes &amp; Drums
REFRESH-INTERVAL;VALUE=DURATION:PT1H
X-Robots-Tag:noindex
X-PUBLISHED-TTL:PT1H
BEGIN:VTIMEZONE
TZID:America/New_York
BEGIN:DAYLIGHT
TZOFFSETFROM:-0500
TZOFFSETTO:-0400
TZNAME:EDT
DTSTART:20250309T070000
END:DAYLIGHT
BEGIN:STANDARD
TZOFFSETFROM:-0400
TZOFFSETTO:-0500
TZNAME:EST
DTSTART:20251102T060000
END:STANDARD
BEGIN:DAYLIGHT
TZOFFSETFROM:-0500
TZOFFSETTO:-0400
TZNAME:EDT
DTSTART:20260308T070000
END:DAYLIGHT
BEGIN:STANDARD
TZOFFSETFROM:-0400
TZOFFSETTO:-0500
TZNAME:EST
DTSTART:20261101T060000
END:STANDARD
BEGIN:DAYLIGHT
TZOFFSETFROM:-0500
TZOFFSETTO:-0400
TZNAME:EDT
DTSTART:20270314T070000
END:DAYLIGHT
BEGIN:STANDARD
TZOFFSETFROM:-0400
TZOFFSETTO:-0500
TZNAME:EST
DTSTART:20271107T060000
END:STANDARD
END:VTIMEZONE
BEGIN:VEVENT
DTSTART;TZID=America/New_York:20260501T185000
DTEND;TZID=America/New_York:20260501T200000
DTSTAMP:20260422T062635
CREATED:20160128T020431Z
LAST-MODIFIED:20260309T212531Z
UID:10000240-1777661400-1777665600@www.mcvfifesanddrums.org
SUMMARY:Lexington Tattoo
DESCRIPTION:MCV will perform in the Lexington Tattoo\, presented by the William Diamond Junior Fife & Drum Corps\, to be held on historic Lexington Battle Green.  There is a short Tattoo parade starting at 6:50 pm as the three invited fife and drum corps march onto the Green. The Tattoo will commence at 7:00 pm and conclude at 8:00 pm. \n 
URL:https://www.mcvfifesanddrums.org/event/william-diamond-fife-drum-tattoo/
LOCATION:Lexington Battle Green\, 1625 Massachusetts Ave\, Lexington\, 02421\, United States
CATEGORIES:Concert,Fife & Drum Muster,MCV Calendar,Tattoo
ATTACH;FMTTYPE=image/jpeg:https://www.mcvfifesanddrums.org/blog/wp-content/uploads/2023/08/Brokenheart-ticketlogo.jpg
END:VEVENT
BEGIN:VEVENT
DTSTART;TZID=America/New_York:20260627T163000
DTEND;TZID=America/New_York:20260627T190000
DTSTAMP:20260422T062635
CREATED:20260331T190813Z
LAST-MODIFIED:20260331T190932Z
UID:10000353-1782577800-1782586800@www.mcvfifesanddrums.org
SUMMARY:Marlborough America 250th Celebration
DESCRIPTION:MCV will be performing at the America 250th celebration in Marlborough\, Massachusetts on Saturday\, June 27th. A short parade that steps at 4:30 pm will end at Ward Park\, where an invitation only Colonial Muster will take place\, followed by a fireworks show.  Additional details to be posted as soon as they are finalized. Presented by the 250 Committee of Marlborough and the Marlborough Historical Society. \n 
URL:https://www.mcvfifesanddrums.org/event/marlborough-america-250th-celebration/
LOCATION:Ward Park\, 57 Orchard St\, Marlborough\, 01752\, United States
CATEGORIES:Concert,MCV Calendar,Parade
ATTACH;FMTTYPE=image/jpeg:https://www.mcvfifesanddrums.org/blog/wp-content/uploads/2026/03/Marlborough250Comm.jpg
END:VEVENT
BEGIN:VEVENT
DTSTART;TZID=America/New_York:20261011T190000
DTEND;TZID=America/New_York:20261011T200000
DTSTAMP:20260422T062635
CREATED:20260305T195027Z
LAST-MODIFIED:20260305T195327Z
UID:10000351-1791745200-1791748800@www.mcvfifesanddrums.org
SUMMARY:Presidents Trail Camporee
DESCRIPTION:MCV returns to perform at the Presidents Trail Camporee\, presented by the Quincy Friends of Scouting\, on Saturday\, October 11th. \nThis event is for camp attendees and staff only.
URL:https://www.mcvfifesanddrums.org/event/presidents-trail-camporee/
LOCATION:Ruth Gordon Amphitheater\, 1 Merrymount Pkwy\, Quincy\, 02169\, United States
CATEGORIES:Concert,MCV Calendar,Private event
ATTACH;FMTTYPE=image/jpeg:https://www.mcvfifesanddrums.org/blog/wp-content/uploads/2026/03/PrezTrailCamporee.jpg
END:VEVENT
END:VCALENDAR